BEGIN:VCALENDAR
VERSION:2.0
PRODID:-//Richen - ECPv6.15.20//NONSGML v1.0//EN
CALSCALE:GREGORIAN
METHOD:PUBLISH
X-WR-CALNAME:Richen
X-ORIGINAL-URL:https://www.richen-kraichgau.de
X-WR-CALDESC:Veranstaltungen für Richen
REFRESH-INTERVAL;VALUE=DURATION:PT1H
X-Robots-Tag:noindex
X-PUBLISHED-TTL:PT1H
BEGIN:VTIMEZONE
TZID:Europe/Berlin
BEGIN:DAYLIGHT
TZOFFSETFROM:+0100
TZOFFSETTO:+0200
TZNAME:CEST
DTSTART:20250330T010000
END:DAYLIGHT
BEGIN:STANDARD
TZOFFSETFROM:+0200
TZOFFSETTO:+0100
TZNAME:CET
DTSTART:20251026T010000
END:STANDARD
BEGIN:DAYLIGHT
TZOFFSETFROM:+0100
TZOFFSETTO:+0200
TZNAME:CEST
DTSTART:20260329T010000
END:DAYLIGHT
BEGIN:STANDARD
TZOFFSETFROM:+0200
TZOFFSETTO:+0100
TZNAME:CET
DTSTART:20261025T010000
END:STANDARD
BEGIN:DAYLIGHT
TZOFFSETFROM:+0100
TZOFFSETTO:+0200
TZNAME:CEST
DTSTART:20270328T010000
END:DAYLIGHT
BEGIN:STANDARD
TZOFFSETFROM:+0200
TZOFFSETTO:+0100
TZNAME:CET
DTSTART:20271031T010000
END:STANDARD
END:VTIMEZONE
BEGIN:VEVENT
DTSTART;TZID=Europe/Berlin:20261003T160000
DTEND;TZID=Europe/Berlin:20261003T220000
DTSTAMP:20260420T205012
CREATED:20251205T195727Z
LAST-MODIFIED:20251205T195727Z
UID:1619-1791043200-1791064800@www.richen-kraichgau.de
SUMMARY:Flammkuchenfest
DESCRIPTION:
URL:https://www.richen-kraichgau.de/event/flammkuchenfest-2/
LOCATION:Feuerwehrgerätehaus\, Gemminger Str. 7\, Richen\, 75031\, Deutschland
END:VEVENT
BEGIN:VEVENT
DTSTART;TZID=Europe/Berlin:20261010T100000
DTEND;TZID=Europe/Berlin:20261010T130000
DTSTAMP:20260420T205012
CREATED:20251205T195825Z
LAST-MODIFIED:20251205T195825Z
UID:1621-1791626400-1791637200@www.richen-kraichgau.de
SUMMARY:Burgbergbasar
DESCRIPTION:
URL:https://www.richen-kraichgau.de/event/burgbergbasar/
LOCATION:Burgberghalle Richen\, Stebbacher Str.\, Richen\, 75031\, Deutschland
END:VEVENT
BEGIN:VEVENT
DTSTART;TZID=Europe/Berlin:20261024T140000
DTEND;TZID=Europe/Berlin:20261024T170000
DTSTAMP:20260420T205012
CREATED:20251205T195925Z
LAST-MODIFIED:20251205T195925Z
UID:1623-1792850400-1792861200@www.richen-kraichgau.de
SUMMARY:Kerwecafé
DESCRIPTION:
URL:https://www.richen-kraichgau.de/event/kerwecafe-2/
LOCATION:Bauernmuseum\, Hintere Gasse 35\, Richen\, 75031\, Deutschland
END:VEVENT
BEGIN:VEVENT
DTSTART;TZID=Europe/Berlin:20261024T190000
DTEND;TZID=Europe/Berlin:20261025T010000
DTSTAMP:20260420T205012
CREATED:20251205T200006Z
LAST-MODIFIED:20251205T200006Z
UID:1625-1792868400-1792890000@www.richen-kraichgau.de
SUMMARY:Kerwebar
DESCRIPTION:
URL:https://www.richen-kraichgau.de/event/kerwebar/
LOCATION:Sport Grillhaus Richen\, Am Sportplatz 2\, Eppingen\, 75031
END:VEVENT
BEGIN:VEVENT
DTSTART;TZID=Europe/Berlin:20261025T143000
DTEND;TZID=Europe/Berlin:20261025T170000
DTSTAMP:20260420T205012
CREATED:20251205T200051Z
LAST-MODIFIED:20251205T200051Z
UID:1627-1792938600-1792947600@www.richen-kraichgau.de
SUMMARY:Dance Day
DESCRIPTION:
URL:https://www.richen-kraichgau.de/event/dance-day/
LOCATION:Burgberghalle Richen\, Stebbacher Str.\, Richen\, 75031\, Deutschland
END:VEVENT
END:VCALENDAR