BEGIN:VCALENDAR
VERSION:2.0
PRODID:-//Richen - ECPv6.15.20//NONSGML v1.0//EN
CALSCALE:GREGORIAN
METHOD:PUBLISH
X-WR-CALNAME:Richen
X-ORIGINAL-URL:https://www.richen-kraichgau.de
X-WR-CALDESC:Veranstaltungen für Richen
REFRESH-INTERVAL;VALUE=DURATION:PT1H
X-Robots-Tag:noindex
X-PUBLISHED-TTL:PT1H
BEGIN:VTIMEZONE
TZID:Europe/Berlin
BEGIN:DAYLIGHT
TZOFFSETFROM:+0100
TZOFFSETTO:+0200
TZNAME:CEST
DTSTART:20250330T010000
END:DAYLIGHT
BEGIN:STANDARD
TZOFFSETFROM:+0200
TZOFFSETTO:+0100
TZNAME:CET
DTSTART:20251026T010000
END:STANDARD
BEGIN:DAYLIGHT
TZOFFSETFROM:+0100
TZOFFSETTO:+0200
TZNAME:CEST
DTSTART:20260329T010000
END:DAYLIGHT
BEGIN:STANDARD
TZOFFSETFROM:+0200
TZOFFSETTO:+0100
TZNAME:CET
DTSTART:20261025T010000
END:STANDARD
BEGIN:DAYLIGHT
TZOFFSETFROM:+0100
TZOFFSETTO:+0200
TZNAME:CEST
DTSTART:20270328T010000
END:DAYLIGHT
BEGIN:STANDARD
TZOFFSETFROM:+0200
TZOFFSETTO:+0100
TZNAME:CET
DTSTART:20271031T010000
END:STANDARD
END:VTIMEZONE
BEGIN:VEVENT
DTSTART;TZID=Europe/Berlin:20260424T180000
DTEND;TZID=Europe/Berlin:20260424T200000
DTSTAMP:20260420T024207
CREATED:20251205T194027Z
LAST-MODIFIED:20251205T194027Z
UID:1587-1777053600-1777060800@www.richen-kraichgau.de
SUMMARY:Abendspaziergang: Wandern in Gottes Schöpfung
DESCRIPTION:
URL:https://www.richen-kraichgau.de/event/abendspaziergang-wandern-in-gottes-schoepfung/
LOCATION:Evangelisches Gemeindehaus\, Berwanger Str. 4\, Richen\, 75031
END:VEVENT
BEGIN:VEVENT
DTSTART;TZID=Europe/Berlin:20260426T100000
DTEND;TZID=Europe/Berlin:20260426T113000
DTSTAMP:20260420T024207
CREATED:20251205T194112Z
LAST-MODIFIED:20251205T194112Z
UID:1589-1777197600-1777203000@www.richen-kraichgau.de
SUMMARY:Konfirmation
DESCRIPTION:
URL:https://www.richen-kraichgau.de/event/konfirmation/
LOCATION:Evangelische Kirche Richen\, Ittlinger Str. 51\, Richen\, 75031
END:VEVENT
BEGIN:VEVENT
DTSTART;TZID=Europe/Berlin:20260430T160000
DTEND;TZID=Europe/Berlin:20260430T230000
DTSTAMP:20260420T024207
CREATED:20260305T212715Z
LAST-MODIFIED:20260305T212715Z
UID:1654-1777564800-1777590000@www.richen-kraichgau.de
SUMMARY:Maibaumfest
DESCRIPTION:
URL:https://www.richen-kraichgau.de/event/maibaumfest/
LOCATION:Endgassenplatz\, Endgasse 33\, Richen\, 75031
END:VEVENT
BEGIN:VEVENT
DTSTART;TZID=Europe/Berlin:20260501T110000
DTEND;TZID=Europe/Berlin:20260501T200000
DTSTAMP:20260420T024207
CREATED:20251205T194201Z
LAST-MODIFIED:20251205T194201Z
UID:1591-1777633200-1777665600@www.richen-kraichgau.de
SUMMARY:Maifest
DESCRIPTION:
URL:https://www.richen-kraichgau.de/event/maifest/
LOCATION:Feuerwehrgerätehaus\, Gemminger Str. 7\, Richen\, 75031\, Deutschland
END:VEVENT
BEGIN:VEVENT
DTSTART;TZID=Europe/Berlin:20260516T173000
DTEND;TZID=Europe/Berlin:20260516T230000
DTSTAMP:20260420T024207
CREATED:20251205T194342Z
LAST-MODIFIED:20251205T194342Z
UID:1593-1778952600-1778972400@www.richen-kraichgau.de
SUMMARY:DRK-Rock in Richen mit Constant Jam und Fata Morgana
DESCRIPTION:
URL:https://www.richen-kraichgau.de/event/drk-rock-in-richen-mit-constant-jam-und-fata-morgana/
LOCATION:Endgassenplatz\, Endgasse 33\, Richen\, 75031
END:VEVENT
BEGIN:VEVENT
DTSTART;TZID=Europe/Berlin:20260517T110000
DTEND;TZID=Europe/Berlin:20260517T190000
DTSTAMP:20260420T024207
CREATED:20251205T194600Z
LAST-MODIFIED:20251205T194600Z
UID:1595-1779015600-1779044400@www.richen-kraichgau.de
SUMMARY:Handwerkermarkt und Flohmarkt "von allem ebbes"
DESCRIPTION:
URL:https://www.richen-kraichgau.de/event/handwerkermarkt-und-flohmarkt-von-allem-ebbes/
LOCATION:Endgasse\, Endgasse\, Richen\, 75031\, Deutschland
END:VEVENT
BEGIN:VEVENT
DTSTART;TZID=Europe/Berlin:20260613T100000
DTEND;TZID=Europe/Berlin:20260613T130000
DTSTAMP:20260420T024207
CREATED:20251205T194730Z
LAST-MODIFIED:20251205T194730Z
UID:1597-1781344800-1781355600@www.richen-kraichgau.de
SUMMARY:Musical: Disney´s "Die Eiskönigin"
DESCRIPTION:
URL:https://www.richen-kraichgau.de/event/musical-disneys-die-eiskoenigin/
LOCATION:Burgberghalle Richen\, Stebbacher Str.\, Richen\, 75031\, Deutschland
END:VEVENT
BEGIN:VEVENT
DTSTART;TZID=Europe/Berlin:20260613T190000
DTEND;TZID=Europe/Berlin:20260613T220000
DTSTAMP:20260420T024207
CREATED:20251205T194838Z
LAST-MODIFIED:20251205T194838Z
UID:1599-1781377200-1781388000@www.richen-kraichgau.de
SUMMARY:Gartengottesdienst mit Abendkino
DESCRIPTION:
URL:https://www.richen-kraichgau.de/event/gartengottesdienst-mit-abendkino/
LOCATION:Evangelisches Gemeindehaus\, Berwanger Str. 4\, Richen\, 75031
END:VEVENT
BEGIN:VEVENT
DTSTART;TZID=Europe/Berlin:20260616T143000
DTEND;TZID=Europe/Berlin:20260616T193000
DTSTAMP:20260420T024207
CREATED:20251205T194907Z
LAST-MODIFIED:20251205T194907Z
UID:1601-1781620200-1781638200@www.richen-kraichgau.de
SUMMARY:Blutspenden
DESCRIPTION:
URL:https://www.richen-kraichgau.de/event/blutspenden-2/
LOCATION:Burgberghalle Richen\, Stebbacher Str.\, Richen\, 75031\, Deutschland
END:VEVENT
BEGIN:VEVENT
DTSTART;TZID=Europe/Berlin:20260620T100000
DTEND;TZID=Europe/Berlin:20260620T120000
DTSTAMP:20260420T024207
CREATED:20251205T194951Z
LAST-MODIFIED:20251205T194951Z
UID:1603-1781949600-1781956800@www.richen-kraichgau.de
SUMMARY:Altpapier- und Kartonagensammlung
DESCRIPTION:
URL:https://www.richen-kraichgau.de/event/altpapier-und-kartonagensammlung-2/
END:VEVENT
BEGIN:VEVENT
DTSTART;TZID=Europe/Berlin:20260703T190000
DTEND;TZID=Europe/Berlin:20260703T210000
DTSTAMP:20260420T024207
CREATED:20251205T195044Z
LAST-MODIFIED:20251205T195044Z
UID:1605-1783105200-1783112400@www.richen-kraichgau.de
SUMMARY:Mitarbeiterfest
DESCRIPTION:
URL:https://www.richen-kraichgau.de/event/mitarbeiterfest/
LOCATION:Evangelisches Gemeindehaus\, Berwanger Str. 4\, Richen\, 75031
END:VEVENT
BEGIN:VEVENT
DTSTART;TZID=Europe/Berlin:20260802T100000
DTEND;TZID=Europe/Berlin:20260802T130000
DTSTAMP:20260420T024207
CREATED:20251205T195140Z
LAST-MODIFIED:20251205T195140Z
UID:1607-1785664800-1785675600@www.richen-kraichgau.de
SUMMARY:Weißwurstfrühshoppen und Reparaturcafé
DESCRIPTION:
URL:https://www.richen-kraichgau.de/event/weisswurstfruehshoppen-und-reparaturcafe/
LOCATION:Bauernmuseum\, Hintere Gasse 35\, Richen\, 75031\, Deutschland
END:VEVENT
BEGIN:VEVENT
DTSTART;TZID=Europe/Berlin:20260807T180000
DTEND;TZID=Europe/Berlin:20260808T010000
DTSTAMP:20260420T024207
CREATED:20251205T195318Z
LAST-MODIFIED:20251205T195318Z
UID:1609-1786125600-1786150800@www.richen-kraichgau.de
SUMMARY:Mitternachtsturnier
DESCRIPTION:
URL:https://www.richen-kraichgau.de/event/mitternachtsturnier/
LOCATION:Sportplatz Richen\, Stebbacher Str.\, Richen\, 75031
END:VEVENT
BEGIN:VEVENT
DTSTART;TZID=Europe/Berlin:20260808T180000
DTEND;TZID=Europe/Berlin:20260808T230000
DTSTAMP:20260420T024207
CREATED:20251205T195415Z
LAST-MODIFIED:20251205T195415Z
UID:1611-1786212000-1786230000@www.richen-kraichgau.de
SUMMARY:Elfmeterturnier
DESCRIPTION:
URL:https://www.richen-kraichgau.de/event/elfmeterturnier/
LOCATION:Sportplatz Richen\, Stebbacher Str.\, Richen\, 75031
END:VEVENT
BEGIN:VEVENT
DTSTART;TZID=Europe/Berlin:20260919T100000
DTEND;TZID=Europe/Berlin:20260919T120000
DTSTAMP:20260420T024207
CREATED:20251205T195559Z
LAST-MODIFIED:20251205T195559Z
UID:1615-1789812000-1789819200@www.richen-kraichgau.de
SUMMARY:Altpapier- und Kartonagensammlung
DESCRIPTION:
URL:https://www.richen-kraichgau.de/event/altpapier-und-kartonagensammlung-5/
END:VEVENT
BEGIN:VEVENT
DTSTART;TZID=Europe/Berlin:20260919T100000
DTEND;TZID=Europe/Berlin:20260919T130000
DTSTAMP:20260420T024207
CREATED:20251205T195524Z
LAST-MODIFIED:20251205T195524Z
UID:1613-1789812000-1789822800@www.richen-kraichgau.de
SUMMARY:Einschulungsfeier
DESCRIPTION:
URL:https://www.richen-kraichgau.de/event/einschulungsfeier/
LOCATION:Burgberghalle Richen\, Stebbacher Str.\, Richen\, 75031\, Deutschland
END:VEVENT
BEGIN:VEVENT
DTSTART;TZID=Europe/Berlin:20260925T090000
DTEND;TZID=Europe/Berlin:20260925T110000
DTSTAMP:20260420T024207
CREATED:20251205T195642Z
LAST-MODIFIED:20251205T195642Z
UID:1617-1790326800-1790334000@www.richen-kraichgau.de
SUMMARY:Schulsäuberungsaktion
DESCRIPTION:
URL:https://www.richen-kraichgau.de/event/schulsaeuberungsaktion-2/
LOCATION:Burgbergschule Richen\, Stebbacher Str. 11\, Eppingen\, 75031
END:VEVENT
BEGIN:VEVENT
DTSTART;TZID=Europe/Berlin:20261003T160000
DTEND;TZID=Europe/Berlin:20261003T220000
DTSTAMP:20260420T024207
CREATED:20251205T195727Z
LAST-MODIFIED:20251205T195727Z
UID:1619-1791043200-1791064800@www.richen-kraichgau.de
SUMMARY:Flammkuchenfest
DESCRIPTION:
URL:https://www.richen-kraichgau.de/event/flammkuchenfest-2/
LOCATION:Feuerwehrgerätehaus\, Gemminger Str. 7\, Richen\, 75031\, Deutschland
END:VEVENT
BEGIN:VEVENT
DTSTART;TZID=Europe/Berlin:20261010T100000
DTEND;TZID=Europe/Berlin:20261010T130000
DTSTAMP:20260420T024207
CREATED:20251205T195825Z
LAST-MODIFIED:20251205T195825Z
UID:1621-1791626400-1791637200@www.richen-kraichgau.de
SUMMARY:Burgbergbasar
DESCRIPTION:
URL:https://www.richen-kraichgau.de/event/burgbergbasar/
LOCATION:Burgberghalle Richen\, Stebbacher Str.\, Richen\, 75031\, Deutschland
END:VEVENT
BEGIN:VEVENT
DTSTART;TZID=Europe/Berlin:20261024T140000
DTEND;TZID=Europe/Berlin:20261024T170000
DTSTAMP:20260420T024207
CREATED:20251205T195925Z
LAST-MODIFIED:20251205T195925Z
UID:1623-1792850400-1792861200@www.richen-kraichgau.de
SUMMARY:Kerwecafé
DESCRIPTION:
URL:https://www.richen-kraichgau.de/event/kerwecafe-2/
LOCATION:Bauernmuseum\, Hintere Gasse 35\, Richen\, 75031\, Deutschland
END:VEVENT
BEGIN:VEVENT
DTSTART;TZID=Europe/Berlin:20261024T190000
DTEND;TZID=Europe/Berlin:20261025T010000
DTSTAMP:20260420T024207
CREATED:20251205T200006Z
LAST-MODIFIED:20251205T200006Z
UID:1625-1792868400-1792890000@www.richen-kraichgau.de
SUMMARY:Kerwebar
DESCRIPTION:
URL:https://www.richen-kraichgau.de/event/kerwebar/
LOCATION:Sport Grillhaus Richen\, Am Sportplatz 2\, Eppingen\, 75031
END:VEVENT
BEGIN:VEVENT
DTSTART;TZID=Europe/Berlin:20261025T143000
DTEND;TZID=Europe/Berlin:20261025T170000
DTSTAMP:20260420T024207
CREATED:20251205T200051Z
LAST-MODIFIED:20251205T200051Z
UID:1627-1792938600-1792947600@www.richen-kraichgau.de
SUMMARY:Dance Day
DESCRIPTION:
URL:https://www.richen-kraichgau.de/event/dance-day/
LOCATION:Burgberghalle Richen\, Stebbacher Str.\, Richen\, 75031\, Deutschland
END:VEVENT
BEGIN:VEVENT
DTSTART;TZID=Europe/Berlin:20261111T180000
DTEND;TZID=Europe/Berlin:20261111T200000
DTSTAMP:20260420T024207
CREATED:20251205T200151Z
LAST-MODIFIED:20251205T200151Z
UID:1629-1794420000-1794427200@www.richen-kraichgau.de
SUMMARY:Martinsumzug
DESCRIPTION:
URL:https://www.richen-kraichgau.de/event/martinsumzug-2/
LOCATION:Burgbergschule Richen\, Stebbacher Str. 11\, Eppingen\, 75031
END:VEVENT
BEGIN:VEVENT
DTSTART;TZID=Europe/Berlin:20261113T180000
DTEND;TZID=Europe/Berlin:20261113T210000
DTSTAMP:20260420T024207
CREATED:20251205T200238Z
LAST-MODIFIED:20251205T200238Z
UID:1631-1794592800-1794603600@www.richen-kraichgau.de
SUMMARY:Abendmahl mal anders
DESCRIPTION:
URL:https://www.richen-kraichgau.de/event/abendmahl-mal-anders/
LOCATION:Evangelisches Gemeindehaus\, Berwanger Str. 4\, Richen\, 75031
END:VEVENT
BEGIN:VEVENT
DTSTART;TZID=Europe/Berlin:20261115T111500
DTEND;TZID=Europe/Berlin:20261115T120000
DTSTAMP:20260420T024207
CREATED:20251205T200323Z
LAST-MODIFIED:20251205T200323Z
UID:1633-1794741300-1794744000@www.richen-kraichgau.de
SUMMARY:Gedenkfeier zum Volkstrauertag
DESCRIPTION:
URL:https://www.richen-kraichgau.de/event/gedenkfeier-zum-volkstrauertag/
LOCATION:Friedhof\, 5WCQ+VG Eppingen\, Richen\, 75031
END:VEVENT
BEGIN:VEVENT
DTSTART;TZID=Europe/Berlin:20261130T090000
DTEND;TZID=Europe/Berlin:20261130T180000
DTSTAMP:20260420T024207
CREATED:20251205T200352Z
LAST-MODIFIED:20251205T200352Z
UID:1635-1796029200-1796061600@www.richen-kraichgau.de
SUMMARY:Andreasmarkt
DESCRIPTION:
URL:https://www.richen-kraichgau.de/event/andreasmarkt-2/
LOCATION:Endgasse\, Endgasse\, Richen\, 75031\, Deutschland
END:VEVENT
BEGIN:VEVENT
DTSTART;TZID=Europe/Berlin:20261206T140000
DTEND;TZID=Europe/Berlin:20261206T170000
DTSTAMP:20260420T024207
CREATED:20251205T200509Z
LAST-MODIFIED:20251205T200509Z
UID:1639-1796565600-1796576400@www.richen-kraichgau.de
SUMMARY:Reparaturcafé
DESCRIPTION:
URL:https://www.richen-kraichgau.de/event/reparaturcafe-3/
LOCATION:Bauernmuseum\, Hintere Gasse 35\, Richen\, 75031\, Deutschland
END:VEVENT
BEGIN:VEVENT
DTSTART;TZID=Europe/Berlin:20261212T100000
DTEND;TZID=Europe/Berlin:20261212T120000
DTSTAMP:20260420T024207
CREATED:20251205T200551Z
LAST-MODIFIED:20251205T200551Z
UID:1641-1797069600-1797076800@www.richen-kraichgau.de
SUMMARY:Altpapier- und Kartonagensammlung
DESCRIPTION:
URL:https://www.richen-kraichgau.de/event/altpapier-und-kartonagensammlung-6/
END:VEVENT
BEGIN:VEVENT
DTSTART;TZID=Europe/Berlin:20261213T140000
DTEND;TZID=Europe/Berlin:20261213T170000
DTSTAMP:20260420T024207
CREATED:20251205T200625Z
LAST-MODIFIED:20251205T200625Z
UID:1643-1797170400-1797181200@www.richen-kraichgau.de
SUMMARY:Weihnachtsmarkt
DESCRIPTION:
URL:https://www.richen-kraichgau.de/event/weihnachtsmarkt/
LOCATION:Endgassenplatz\, Endgasse 33\, Richen\, 75031
END:VEVENT
BEGIN:VEVENT
DTSTART;TZID=Europe/Berlin:20261219T160000
DTEND;TZID=Europe/Berlin:20261219T230000
DTSTAMP:20260420T024207
CREATED:20251205T200735Z
LAST-MODIFIED:20251205T200735Z
UID:1645-1797696000-1797721200@www.richen-kraichgau.de
SUMMARY:Fahrt zum Weihnachtsmarkt in Richen (Hessen) - Abfahrt: Verwaltungsstelle
DESCRIPTION:
URL:https://www.richen-kraichgau.de/event/fahrt-zum-weihnachtsmarkt-in-richen-hessen-abfahrt-verwaltungsstelle/
END:VEVENT
END:VCALENDAR