BEGIN:VCALENDAR
VERSION:2.0
PRODID:-//Richen - ECPv6.15.20//NONSGML v1.0//EN
CALSCALE:GREGORIAN
METHOD:PUBLISH
X-ORIGINAL-URL:https://www.richen-kraichgau.de
X-WR-CALDESC:Veranstaltungen für Richen
REFRESH-INTERVAL;VALUE=DURATION:PT1H
X-Robots-Tag:noindex
X-PUBLISHED-TTL:PT1H
BEGIN:VTIMEZONE
TZID:Europe/Berlin
BEGIN:DAYLIGHT
TZOFFSETFROM:+0100
TZOFFSETTO:+0200
TZNAME:CEST
DTSTART:20250330T010000
END:DAYLIGHT
BEGIN:STANDARD
TZOFFSETFROM:+0200
TZOFFSETTO:+0100
TZNAME:CET
DTSTART:20251026T010000
END:STANDARD
BEGIN:DAYLIGHT
TZOFFSETFROM:+0100
TZOFFSETTO:+0200
TZNAME:CEST
DTSTART:20260329T010000
END:DAYLIGHT
BEGIN:STANDARD
TZOFFSETFROM:+0200
TZOFFSETTO:+0100
TZNAME:CET
DTSTART:20261025T010000
END:STANDARD
BEGIN:DAYLIGHT
TZOFFSETFROM:+0100
TZOFFSETTO:+0200
TZNAME:CEST
DTSTART:20270328T010000
END:DAYLIGHT
BEGIN:STANDARD
TZOFFSETFROM:+0200
TZOFFSETTO:+0100
TZNAME:CET
DTSTART:20271031T010000
END:STANDARD
END:VTIMEZONE
BEGIN:VEVENT
DTSTART;TZID=Europe/Berlin:20260217T143000
DTEND;TZID=Europe/Berlin:20260217T193000
DTSTAMP:20260420T133301
CREATED:20251205T192357Z
LAST-MODIFIED:20251205T192357Z
UID:1563-1771338600-1771356600@www.richen-kraichgau.de
SUMMARY:Blutspenden
DESCRIPTION:
URL:https://www.richen-kraichgau.de/event/blutspenden/
LOCATION:Burgberghalle Richen\, Stebbacher Str.\, Richen\, 75031\, Deutschland
END:VEVENT
BEGIN:VEVENT
DTSTART;TZID=Europe/Berlin:20260217T180000
DTEND;TZID=Europe/Berlin:20260217T220000
DTSTAMP:20260420T133301
CREATED:20251205T192434Z
LAST-MODIFIED:20251205T192434Z
UID:1565-1771351200-1771365600@www.richen-kraichgau.de
SUMMARY:Fassnachtsausklang
DESCRIPTION:
URL:https://www.richen-kraichgau.de/event/fassnachtsausklang/
LOCATION:Endgassenplatz\, Endgasse 33\, Richen\, 75031
END:VEVENT
END:VCALENDAR